

BEGIN:VCALENDAR
VERSION:2.0
PRODID:-//Goodwill of the Heartland - ECPv6.15.20//NONSGML v1.0//EN
CALSCALE:GREGORIAN
METHOD:PUBLISH
X-WR-CALNAME:Goodwill of the Heartland
X-ORIGINAL-URL:https://www.goodwillheartland.org
X-WR-CALDESC:Events for Goodwill of the Heartland
REFRESH-INTERVAL;VALUE=DURATION:PT1H
X-Robots-Tag:noindex
X-PUBLISHED-TTL:PT1H
BEGIN:VTIMEZONE
TZID:America/Chicago
BEGIN:DAYLIGHT
TZOFFSETFROM:-0600
TZOFFSETTO:-0500
TZNAME:CDT
DTSTART:20210314T080000
END:DAYLIGHT
BEGIN:STANDARD
TZOFFSETFROM:-0500
TZOFFSETTO:-0600
TZNAME:CST
DTSTART:20211107T070000
END:STANDARD
BEGIN:DAYLIGHT
TZOFFSETFROM:-0600
TZOFFSETTO:-0500
TZNAME:CDT
DTSTART:20220313T080000
END:DAYLIGHT
BEGIN:STANDARD
TZOFFSETFROM:-0500
TZOFFSETTO:-0600
TZNAME:CST
DTSTART:20221106T070000
END:STANDARD
BEGIN:DAYLIGHT
TZOFFSETFROM:-0600
TZOFFSETTO:-0500
TZNAME:CDT
DTSTART:20230312T080000
END:DAYLIGHT
BEGIN:STANDARD
TZOFFSETFROM:-0500
TZOFFSETTO:-0600
TZNAME:CST
DTSTART:20231105T070000
END:STANDARD
END:VTIMEZONE
BEGIN:VEVENT
DTSTART;TZID=America/Chicago:20220221T170000
DTEND;TZID=America/Chicago:20220708T183000
DTSTAMP:20260421T085259
CREATED:20201015T191118Z
LAST-MODIFIED:20220405T184815Z
UID:10001086-1645462800-1657305000@www.goodwillheartland.org
SUMMARY:Google IT Support Professional Certificate
DESCRIPTION:Virtual\, online class held Tuesdays & Thursdays from 5:00 – 6:30 pm\, with some weekend and evening office hours for additional learning support.  Google\, Coursera\, and Goodwill have joined forces to provide the training and support you need to get started in an IT career with advancement potential! \nPrepare for a career in the high-growth field of information technology\, no experience or degree required.  Get professional training designed by Google and get on the fast track to landing one of the  340\,000+  great paying IT jobs currently available in the United States. \nThe average entry level salary for IT Support jobs in the U.S. is $50\,800. \nVirtual class is held  Tuesdays & Thursdays 5:00 pm – 6:30 pm\, and optional online instructor office hours scheduled throughout the week.  Students can expect to spend an additional 6-8 hours per week completing online coursework on their own. \nGoogle and Coursera have partnered to offer IT Support Professional certification. Goodwill instructors supplement the online curriculum with virtual classroom review\, practice and open computer lab hours. Coursera’s learning platform offers highly interactive training to individuals who are interested in IT careers but have little or no experience. \nThe program builds skills in key areas: Binary Code\, Customer Support\, Linux\, Troubleshooting\, Domain Name System (DNS)\, Ipv4\, Network Model\, Powershell\, Linux File Systems\, Command-Line Interface\, Directory Service\, and Lightweight Directory Access Protocol (LDAP). This program also prepares you for the CompTIA A+ exams\, the industry standard certification for IT—you’ll earn a dual credential when you complete both. \nAccording to the 2019 Google IT Certificate Impact Report\, 80% of Google IT Support Professional Certificate learners in the U.S. reported a career impact within 6 months\, such as finding a new job\, getting a raise\, or starting a new business. \nUpon completion\, you can directly apply for jobs with Google and over 130 U.S. employers\, including Walmart\, Best Buy\, and Astreya.  Click here to request more info.
URL:https://www.goodwillheartland.org/certification/it-support-professional/
LOCATION:Online Virtual Instruction
CATEGORIES:Information Technology
ATTACH;FMTTYPE=image/jpeg:https://www.goodwillheartland.org/wp-content/uploads/2022/03/woman-server-room-1200.jpg
END:VEVENT
BEGIN:VEVENT
DTSTART;TZID=America/Chicago:20220517T160000
DTEND;TZID=America/Chicago:20220901T173000
DTSTAMP:20260421T085259
CREATED:20220307T165204Z
LAST-MODIFIED:20220408T145639Z
UID:10001215-1652803200-1662053400@www.goodwillheartland.org
SUMMARY:Google Automation with Python Certificate
DESCRIPTION:  \n\n\n\nAttend class in-person or virtually May 17 – September 1\, Tuesdays & Thursdays 4:00 – 5:30 pm. \nThis beginner-level\, six-course certificate\, developed by Google\, is designed to provide IT professionals with in-demand skills — including Python\, Git\, and IT automation — that can help you advance your career. \nKnowing how to write code to solve problems and automate solutions is a crucial skill for anybody in IT. Python\, in particular\, is now the most in-demand programming language by employers. This program builds on your IT foundations to help you take your career to the next level. It’s designed to teach you how to program with Python and how to use Python to automate common system administration tasks.  You’ll also learn to use Git and GitHub\, troubleshoot and debug complex problems\, and apply automation at scale by using configuration management and the Cloud. \nThis certificate can be completed in about 4 months and is designed to prepare you for a variety of roles in IT\, like more advanced IT Support Specialist or Junior Systems Administrator positions. Upon completion\, you can share your information with 130+ employers from an exclusive hiring consortium\, like Walmart\, Sprint\, Hulu\, Bank of America\, Google (of course!) and more. \nAttend class in person or virtually May 17-September 1\, Mondays & Wednesdays 4:00-5:30pm. We recommend that you have Python installed on your machine. For some courses\, you’ll need a computer where you can install Git or ask your administrator to install it for you. \n\n  \n\n\n                \n                        \n                            Please complete this form to get more information about this online program. We will contact you to complete your registration. \n							"*" indicates required fields \n                         \n \n                        CommentsThis field is for validation purposes and should be left unchanged.Name*\n                            \n                            \n                                                    \n                                                    First\n                                                \n                            \n                            \n                                                    \n                                                    Last\n                                                \n                            \n                        Email*\n                            \n                        Address*    \n                    \n                         \n                                        \n                                        Street Address\n                                    \n                                        \n                                        Address Line 2\n                                    \n                                    \n                                    City\n                                 \n                                        \n                                        State / Province / Region\n                                      \n                                    \n                                    ZIP / Postal Code\n                                \n                    \n                Phone*Which certification are you interested in?*Automation with Python (Google)Customer Service & SalesCustodial TechnicianCybersecurity Professional (Google)Data Analytics (Google)Digital Marketing & eCommerce Professional (Google)Essential Computer Skills for EmploymentHospitality Guest Service ProfessionalHospitality Food Service CareersHospitality Guest Room AttendantHospitality Maintenance TechnicianHospitality Front Desk RepresentativeIT Support Professional (Google)ServSafe Food HandlerServSafe Food Protection ManagerUX Design (Google)Additional commentsIf necessary\, please provide additional relevant details.
URL:https://www.goodwillheartland.org/certification/google-automation-with-python-certificate/
LOCATION:Online Virtual Instruction
CATEGORIES:Computer Skills,Information Technology,Programming
ATTACH;FMTTYPE=image/jpeg:https://www.goodwillheartland.org/wp-content/uploads/2022/03/OST_Google01_1200x628.jpg
ORGANIZER;CN="Isaac Berry":MAILTO:iberry@goodwillheartland.org
END:VEVENT
BEGIN:VEVENT
DTSTART;TZID=America/Chicago:20220620T170000
DTEND;TZID=America/Chicago:20221012T183000
DTSTAMP:20260421T085259
CREATED:20220307T165753Z
LAST-MODIFIED:20220329T230238Z
UID:10001216-1655744400-1665599400@www.goodwillheartland.org
SUMMARY:Google UX Web Design Certificate
DESCRIPTION:Prepare for a career in the high-growth field of UX design\, no experience or degree required. With professional training designed by Google\, get on the fast-track to a competitively paid job. There are currently 113\,700 U.S. job openings in UX design with an average entry-level salary of $58\,600.¹ \nUser experience (UX) designers focus on the interaction that users have with products\, like websites\, apps\, and physical objects. They make those everyday interactions useful\, enjoyable\, and accessible. \nAttend class in person or virtually June 20 – October 12\, Mondays & Wednesdays 5:00-6:30 pm. \nOver 7 courses\, gain in-demand skills that will prepare you for an entry-level job. At under 10 hours per week\, you can complete the certificate in less than 6 months. \nYou will create designs on paper and in digital design tools like Figma and Adobe XD. By the end of the certificate program\, you will have a professional UX portfolio that includes three end-to-end projects\, so that you’re ready to apply for jobs. Upon completion\, you can directly apply for jobs with Google and over 130 U.S. employers\, including Walmart\, Best Buy\, and Astreya. \nThe American Council on Education recommends a total of 10 college credits for successfully completing this course. 
URL:https://www.goodwillheartland.org/certification/google-ux-web-design-certificate/
LOCATION:Online Virtual Instruction
CATEGORIES:Computer Skills,Information Technology,Web Design
ATTACH;FMTTYPE=image/jpeg:https://www.goodwillheartland.org/wp-content/uploads/2022/03/2022_GDCA-Google_Social-Media_9.jpg
ORGANIZER;CN="Isaac Berry":MAILTO:iberry@goodwillheartland.org
END:VEVENT
BEGIN:VEVENT
DTSTART;TZID=America/Chicago:20220701T080000
DTEND;TZID=America/Chicago:20220729T100000
DTSTAMP:20260421T085259
CREATED:20211229T232703Z
LAST-MODIFIED:20220502T193036Z
UID:10001056-1656662400-1659088800@www.goodwillheartland.org
SUMMARY:ESSENTIAL COMPUTER SKILLS - Iowa City
DESCRIPTION:Mondays\, Wednesdays\, Fridays 8:00 am – 10:00 am. The Essential Computer Skills OST is 24 hours of in-person classroom-based assessments and instruction that aims to build the foundational computer skills required for job search and employment success. Digital skills are in high demand\, and employers report difficulty finding workers with the required digital skills. Building computer skills can increase job-seeking success as well as build a foundation for learning additional digital skills required on the job and career advancement. Northstar Digital Literacy assessments and training provides an interactive\, hands on learning experience. We will cover Basic Computer Skills\, Internet Basics\, Using Email\, Windows 10\, Microsoft Word\, Excel\, PowerPoint\, Social Media\, Information Literacy\, and Your Digital Footprint in addition to using a virtual platform for job interviews.  Scholarships available for those without funding options. For more information please submit this form.   \n\n                \n                        \n                            Please complete this form to get more information about this online program. We will contact you to complete your registration. \n							"*" indicates required fields \n                         \n \n                        CommentsThis field is for validation purposes and should be left unchanged.Name*\n                            \n                            \n                                                    \n                                                    First\n                                                \n                            \n                            \n                                                    \n                                                    Last\n                                                \n                            \n                        Email*\n                            \n                        Address*    \n                    \n                         \n                                        \n                                        Street Address\n                                    \n                                        \n                                        Address Line 2\n                                    \n                                    \n                                    City\n                                 \n                                        \n                                        State / Province / Region\n                                      \n                                    \n                                    ZIP / Postal Code\n                                \n                    \n                Phone*Which certification are you interested in?*Automation with Python (Google)Customer Service & SalesCustodial TechnicianCybersecurity Professional (Google)Data Analytics (Google)Digital Marketing & eCommerce Professional (Google)Essential Computer Skills for EmploymentHospitality Guest Service ProfessionalHospitality Food Service CareersHospitality Guest Room AttendantHospitality Maintenance TechnicianHospitality Front Desk RepresentativeIT Support Professional (Google)ServSafe Food HandlerServSafe Food Protection ManagerUX Design (Google)Additional commentsIf necessary\, please provide additional relevant details.
URL:https://www.goodwillheartland.org/certification/essential-computer-skills-iowa-city-7/
LOCATION:Iowa City Career and Support Services\, 1025 Wade Street\, Iowa City\, IA\, 52240\, United States
CATEGORIES:Computer Skills
ATTACH;FMTTYPE=image/jpeg:https://www.goodwillheartland.org/wp-content/uploads/2020/05/MEY_6304_cropped_500x360.jpg
ORGANIZER;CN="Goodwill of the Heartland":MAILTO:awinslow@goodwillheartland.org
END:VEVENT
BEGIN:VEVENT
DTSTART;TZID=America/Chicago:20220701T140000
DTEND;TZID=America/Chicago:20220729T150000
DTSTAMP:20260421T085259
CREATED:20211229T224142Z
LAST-MODIFIED:20211229T224150Z
UID:10001162-1656684000-1659106800@www.goodwillheartland.org
SUMMARY:ESSENTIAL COMPUTER SKILLS-BURLINGTON
DESCRIPTION:Every Tuesday\, Wednesday\, Thursday 2:00 pm – 3:00 pm.  The Essential Computer Skills OST is 24 hours of in-person classroom-based assessments and instruction that aims to build the foundational computer skills required for job search and employment success. Digital skills are in high demand\, and employers report difficulty finding workers with the required digital skills. Building computer skills can increase job-seeking success as well as build a foundation for learning additional digital skills required on the job and career advancement. Northstar Digital Literacy assessments and training provides an interactive\, hands on learning experience. We will cover Basic Computer Skills\, Internet Basics\, Using Email\, Windows 10\, Microsoft Word\, Excel\, PowerPoint\, Social Media\, Information Literacy\, and Your Digital Footprint in addition to using a virtual platform for job interviews. Limited Scholarships available for those without funding. To request information please submit this form.
URL:https://www.goodwillheartland.org/certification/essential-computer-skills-burlington-9/
LOCATION:Burlington Career and Support Services\, 165 W. Burlington Ave\, West Burlington\, IA\, 52655\, United States
CATEGORIES:Computer Skills
ATTACH;FMTTYPE=image/jpeg:https://www.goodwillheartland.org/wp-content/uploads/2020/05/KMP6645_cropped_375x250.jpg
ORGANIZER;CN="Goodwill of the Heartland":MAILTO:awinslow@goodwillheartland.org
END:VEVENT
BEGIN:VEVENT
DTSTART;TZID=America/Chicago:20220704T103000
DTEND;TZID=America/Chicago:20220728T123000
DTSTAMP:20260421T085259
CREATED:20220103T193941Z
LAST-MODIFIED:20220502T191417Z
UID:10001069-1656930600-1659011400@www.goodwillheartland.org
SUMMARY:Essential Computer Skills - Cedar Rapids
DESCRIPTION:Held Monday\, Tuesday\, Wednesday\, Thursday 10:30 am- 12:30 pm \, the Essential Computer Skills OST is 24 hours of in-person classroom-based assessments and instruction that aims to build the foundational computer skills required for job search and employment success. Digital skills are in high demand\, and employers report difficulty finding workers with the required digital skills. Building computer skills can increase job-seeking success as well as build a foundation for learning additional digital skills required on the job and career advancement. Northstar Digital Literacy assessments and training provides an interactive\, hands on learning experience. Choose to learn any or all of the available topics: Basic Computer Skills\, Internet Basics\, Using Email\, Windows 10\, Mac OS\, Microsoft Word\, Excel\, PowerPoint\, Google Forms\, Social Media\, Information Literacy\, Your Digital Footprint\, Supporting K-12 Distance learning\,  in addition to using a virtual platform for job interviews.  Scholarships are available for those without funding options. For more information please submit this form.   \n\n                \n                        \n                            Please complete this form to get more information about this online program. We will contact you to complete your registration. \n							"*" indicates required fields \n                         \n \n                        URLThis field is for validation purposes and should be left unchanged.Name*\n                            \n                            \n                                                    \n                                                    First\n                                                \n                            \n                            \n                                                    \n                                                    Last\n                                                \n                            \n                        Email*\n                            \n                        Address*    \n                    \n                         \n                                        \n                                        Street Address\n                                    \n                                        \n                                        Address Line 2\n                                    \n                                    \n                                    City\n                                 \n                                        \n                                        State / Province / Region\n                                      \n                                    \n                                    ZIP / Postal Code\n                                \n                    \n                Phone*Additional commentsPlease provide us with any additional information you want us to know prior to being contacted.
URL:https://www.goodwillheartland.org/certification/essential-computer-skills-cedar-rapids-8/
LOCATION:Cedar Rapids Career and Support Services\, 1441 Blairs Ferry Road NE\, Cedar Rapids\, IA\, 52402\, United States
CATEGORIES:Computer Skills
ATTACH;FMTTYPE=image/jpeg:https://www.goodwillheartland.org/wp-content/uploads/2020/05/KMP6645_cropped_375x250.jpg
ORGANIZER;CN="Goodwill of the Heartland":MAILTO:awinslow@goodwillheartland.org
END:VEVENT
END:VCALENDAR